BEGIN:VCALENDAR
VERSION:2.0
METHOD:PUBLISH
X-WR-CALNAME;VALUE=TEXT:
PRODID:-//Drupal iCal API//EN
BEGIN:VEVENT
2023-08-11 08:30:00 AEST
2023-08-11 08:30:00 AEST
DTSTART:20230810T223000Z
DTEND:20230810T223000Z
SUMMARY:Young Performers Concert #2 (11 August)
UID:67430cff-e9b1-4549-84ee-180b14c0b6fb
URL:https://music.cass.anu.edu.au/events/young-performers-concert-2-11-august
END:VEVENT
END:VCALENDAR
