BEGIN:VCALENDAR
VERSION:2.0
METHOD:PUBLISH
X-WR-CALNAME;VALUE=TEXT:
PRODID:-//Drupal iCal API//EN
BEGIN:VEVENT
2025-06-20 09:15:00 AEST
2025-06-20 10:15:00 AEST
DTSTART:20250619T231500Z
DTEND:20250620T001500Z
SUMMARY:Chamber Musicale 2
UID:4542382f-69b1-4dbe-a569-9169ebea964f
URL:https://music.cass.anu.edu.au/events/chamber-musicale-2-0
END:VEVENT
END:VCALENDAR
