BEGIN:VCALENDAR
VERSION:2.0
METHOD:PUBLISH
X-WR-CALNAME;VALUE=TEXT:
PRODID:-//Drupal iCal API//EN
BEGIN:VEVENT
2026-03-15 06:00:00 AEDT
2026-03-15 07:30:00 AEDT
DTSTART:20260314T190000Z
DTEND:20260314T203000Z
SUMMARY:Griffyn Ensemble Special Event - Session 2
UID:06653b15-e280-48ea-ac80-88e4a95c3674
URL:https://music.cass.anu.edu.au/events/griffyn-ensemble-special-event-session-2
END:VEVENT
END:VCALENDAR
