BEGIN:VCALENDAR
VERSION:2.0
METHOD:PUBLISH
X-WR-CALNAME;VALUE=TEXT:
PRODID:-//Drupal iCal API//EN
BEGIN:VEVENT
2026-03-27 11:00:00 AEDT
2026-03-28 03:00:00 AEDT
DTSTART:20260327T120000Z
DTEND:20260327T160000Z
SUMMARY:ANU School of Music Open Day 2026
UID:40037bd7-ee88-4187-b454-fb159461effc
URL:https://music.cass.anu.edu.au/events/anu-school-music-open-day-2026
END:VEVENT
END:VCALENDAR
